BEGIN:VCALENDAR
VERSION:2.0
PRODID:-//Silks Darwin - ECPv5.1.4//NONSGML v1.0//EN
CALSCALE:GREGORIAN
METHOD:PUBLISH
X-WR-CALNAME:Silks Darwin
X-ORIGINAL-URL:https://silksdarwin.com.au
X-WR-CALDESC:Events for Silks Darwin
BEGIN:VTIMEZONE
TZID:Australia/Darwin
BEGIN:STANDARD
TZOFFSETFROM:+0930
TZOFFSETTO:+0930
TZNAME:ACST
DTSTART:20210101T000000
END:STANDARD
END:VTIMEZONE
BEGIN:VEVENT
DTSTART;TZID=Australia/Darwin:20210424T220000
DTEND;TZID=Australia/Darwin:20210424T170000
DTSTAMP:20210225T115738
CREATED:20200701T230126Z
LAST-MODIFIED:20200701T230126Z
UID:5098-1619301600-1619283600@silksdarwin.com.au
SUMMARY:Hot Seat
DESCRIPTION:A weekend promotion held in the gaming lounge every Saturday and Sunday \nHot Seat – 1 x $50 draw every 30 minutes \nFrom 1pm – 5pm \nEvery Saturday – Sunday \nFull terms and conditions available at reception. Play the gaming machines between 1pm-5pm every Saturday and Sunday to win. Must be present to win \n
URL:https://silksdarwin.com.au/events/hot-seat/2021-04-24/
LOCATION:Silks Darwin\, Australia
ATTACH;FMTTYPE=image/jpeg:https://silksdarwin.com.au/wp-content/uploads/2020/07/SilksDarwin_WhatsOn_HOT-SEAT_WEB.jpg
END:VEVENT
BEGIN:VEVENT
DTSTART;TZID=Australia/Darwin:20210424T130000
DTEND;TZID=Australia/Darwin:20210424T153000
DTSTAMP:20210225T115738
CREATED:20200702T011801Z
LAST-MODIFIED:20200702T011801Z
UID:5097-1619269200-1619278200@silksdarwin.com.au
SUMMARY:Saturday Raffle
DESCRIPTION:Saturday Raffle\n12 x draws from 1pm every Saturday \nPurchase tickets from 11:30am at reception \n
URL:https://silksdarwin.com.au/events/saturday-raffle/2021-04-24/
LOCATION:Silks Darwin\, Australia
CATEGORIES:Promotions,Whats On Weekly
ATTACH;FMTTYPE=image/jpeg:https://silksdarwin.com.au/wp-content/uploads/2020/07/SilksDarwin_WhatsOn_SATURDAY-RAFFLE_WEB.jpg
ORGANIZER;CN="Silks%20Darwin":MAILTO:info@silksdarwin.com
END:VEVENT
BEGIN:VEVENT
DTSTART;TZID=Australia/Darwin:20210423T190000
DTEND;TZID=Australia/Darwin:20210423T190000
DTSTAMP:20210225T115738
CREATED:20200702T011440Z
LAST-MODIFIED:20200702T011440Z
UID:5090-1619204400-1619204400@silksdarwin.com.au
SUMMARY:$1000 Membership Draw
DESCRIPTION:$1000 Membership Draw every Friday \n1 x $250 cash draw at 7:00pm\, 7:30pm\, 8:00pm and 8:30pm \nTo be in the draw members simply need to swipe their membership card at the kiosk\, at any point of sale or in the gaming lounge. \n\nFull terms and conditions available at reception. Must be present to win \n
URL:https://silksdarwin.com.au/events/1000-membership-draw/2021-04-23/
LOCATION:Silks Darwin\, Australia
CATEGORIES:Promotions
ATTACH;FMTTYPE=image/jpeg:https://silksdarwin.com.au/wp-content/uploads/2020/07/SilksDarwin_WhatsOn_JACKPOT-MEMBERSHIP_WEB.jpg
END:VEVENT
BEGIN:VEVENT
DTSTART;TZID=Australia/Darwin:20210423T170000
DTEND;TZID=Australia/Darwin:20210423T170000
DTSTAMP:20210225T115738
CREATED:20200702T010310Z
LAST-MODIFIED:20200702T010310Z
UID:5089-1619197200-1619197200@silksdarwin.com.au
SUMMARY:Friend-zy Fridays
DESCRIPTION:$5 basic beer\, house wine and basic spirits from 5pm every Friday \n
URL:https://silksdarwin.com.au/events/friend-zy-fridays/2021-04-23/
LOCATION:Silks Darwin\, Australia
CATEGORIES:Dining Promotions,Promotions
ATTACH;FMTTYPE=image/jpeg:https://silksdarwin.com.au/wp-content/uploads/2020/07/SilksDarwin_WhatsOn_FRIENDZY-FRIDAYS_WEB.jpg
END:VEVENT
BEGIN:VEVENT
DTSTART;TZID=Australia/Darwin:20210423T130000
DTEND;TZID=Australia/Darwin:20210423T150000
DTSTAMP:20210225T115738
CREATED:20200701T231958Z
LAST-MODIFIED:20200701T231958Z
UID:5092-1619182800-1619190000@silksdarwin.com.au
SUMMARY:Cashman
DESCRIPTION:A weekday promotion held in the gaming lounge from Monday – Friday \nCashman – 1 x $25 draw every 15 minutes\nfrom 1pm – 3pm \nThe gaming host randomly draws a number from 1 – 55\, if you are playing on the machine randomly drawn\, you will win $25 cash! \nFull terms and conditions available at reception. Play the gaming machine between 1pm-3pm every Monday to Friday to win \n
URL:https://silksdarwin.com.au/events/cashman/2021-04-23/
LOCATION:Silks Darwin\, Australia
ATTACH;FMTTYPE=image/jpeg:https://silksdarwin.com.au/wp-content/uploads/2020/07/SilksDarwin_WhatsOn_CASHMAN_WEB.jpg
END:VEVENT
BEGIN:VEVENT
DTSTART;TZID=Australia/Darwin:20210423T113000
DTEND;TZID=Australia/Darwin:20210423T143000
DTSTAMP:20210225T115738
CREATED:20200701T232820Z
LAST-MODIFIED:20200701T232820Z
UID:5091-1619177400-1619188200@silksdarwin.com.au
SUMMARY:The Track Specials Lunch
DESCRIPTION:Monday – Friday from 11:30am – 2:00pm \nOrder from the $15 The Track lunch specials \n.fusion-button.button-1 {border-radius:50px;}.fusion-button.button-1 .fusion-button-text {text-transform:uppercase;}Check out the specials here!.fusion-fullwidth.fusion-builder-row-1 a:not(.fusion-button):not(.fusion-builder-module-control):not(.fusion-social-network-icon):not(.fb-icon-element):not(.fusion-countdown-link):not(.fusion-rollover-link):not(.fusion-rollover-gallery):not(.fusion-button-bar):not(.add_to_cart_button):not(.show_details_button):not(.product_type_external):not(.fusion-quick-view):not(.fusion-rollover-title-link):not(.fusion-breadcrumb-link) \, .fusion-fullwidth.fusion-builder-row-1 a:not(.fusion-button):not(.fusion-builder-module-control):not(.fusion-social-network-icon):not(.fb-icon-element):not(.fusion-countdown-link):not(.fusion-rollover-link):not(.fusion-rollover-gallery):not(.fusion-button-bar):not(.add_to_cart_button):not(.show_details_button):not(.product_type_external):not(.fusion-quick-view):not(.fusion-rollover-title-link):not(.fusion-breadcrumb-link):before\, .fusion-fullwidth.fusion-builder-row-1 a:not(.fusion-button):not(.fusion-builder-module-control):not(.fusion-social-network-icon):not(.fb-icon-element):not(.fusion-countdown-link):not(.fusion-rollover-link):not(.fusion-rollover-gallery):not(.fusion-button-bar):not(.add_to_cart_button):not(.show_details_button):not(.product_type_external):not(.fusion-quick-view):not(.fusion-rollover-title-link):not(.fusion-breadcrumb-link):after {color: #ebc979;}.fusion-fullwidth.fusion-builder-row-1 a:not(.fusion-button):not(.fusion-builder-module-control):not(.fusion-social-network-icon):not(.fb-icon-element):not(.fusion-countdown-link):not(.fusion-rollover-link):not(.fusion-rollover-gallery):not(.fusion-button-bar):not(.add_to_cart_button):not(.show_details_button):not(.product_type_external):not(.fusion-quick-view):not(.fusion-rollover-title-link):not(.fusion-breadcrumb-link):hover\, .fusion-fullwidth.fusion-builder-row-1 a:not(.fusion-button):not(.fusion-builder-module-control):not(.fusion-social-network-icon):not(.fb-icon-element):not(.fusion-countdown-link):not(.fusion-rollover-link):not(.fusion-rollover-gallery):not(.fusion-button-bar):not(.add_to_cart_button):not(.show_details_button):not(.product_type_external):not(.fusion-quick-view):not(.fusion-rollover-title-link):not(.fusion-breadcrumb-link):hover:before\, .fusion-fullwidth.fusion-builder-row-1 a:not(.fusion-button):not(.fusion-builder-module-control):not(.fusion-social-network-icon):not(.fb-icon-element):not(.fusion-countdown-link):not(.fusion-rollover-link):not(.fusion-rollover-gallery):not(.fusion-button-bar):not(.add_to_cart_button):not(.show_details_button):not(.product_type_external):not(.fusion-quick-view):not(.fusion-rollover-title-link):not(.fusion-breadcrumb-link):hover:after {color: #0c162a;}.fusion-fullwidth.fusion-builder-row-1 .pagination a.inactive:hover\, .fusion-fullwidth.fusion-builder-row-1 .fusion-filters .fusion-filter.fusion-active a {border-color: #0c162a;}.fusion-fullwidth.fusion-builder-row-1 .pagination .current {border-color: #0c162a; background-color: #0c162a;}.fusion-fullwidth.fusion-builder-row-1 .fusion-filters .fusion-filter.fusion-active a\, .fusion-fullwidth.fusion-builder-row-1 .fusion-date-and-formats .fusion-format-box\, .fusion-fullwidth.fusion-builder-row-1 .fusion-popover\, .fusion-fullwidth.fusion-builder-row-1 .tooltip-shortcode {color: #0c162a;}#main .fusion-fullwidth.fusion-builder-row-1 .post .blog-shortcode-post-title a:hover {color: #0c162a;}\n
URL:https://silksdarwin.com.au/events/the-track-specials-lunch/2021-04-23/
LOCATION:Silks Darwin\, Australia
CATEGORIES:Dining Promotions,Whats On Weekly
ATTACH;FMTTYPE=image/jpeg:https://silksdarwin.com.au/wp-content/uploads/2020/07/SILKS_TheTrack-15SPECIALS_WEB-TILE.jpg
END:VEVENT
BEGIN:VEVENT
DTSTART;TZID=Australia/Darwin:20210422T173000
DTEND;TZID=Australia/Darwin:20210422T210000
DTSTAMP:20210225T115738
CREATED:20200701T233210Z
LAST-MODIFIED:20200701T233210Z
UID:5084-1619112600-1619125200@silksdarwin.com.au
SUMMARY:The Track Specials Dinner
DESCRIPTION:Monday – Thursday from 5:30pm – 9:00pm\nOrder from the $15 The Track dinner specials \n.fusion-button.button-2 {border-radius:50px;}.fusion-button.button-2 .fusion-button-text {text-transform:uppercase;}Check out the specials here!.fusion-fullwidth.fusion-builder-row-2 a:not(.fusion-button):not(.fusion-builder-module-control):not(.fusion-social-network-icon):not(.fb-icon-element):not(.fusion-countdown-link):not(.fusion-rollover-link):not(.fusion-rollover-gallery):not(.fusion-button-bar):not(.add_to_cart_button):not(.show_details_button):not(.product_type_external):not(.fusion-quick-view):not(.fusion-rollover-title-link):not(.fusion-breadcrumb-link) \, .fusion-fullwidth.fusion-builder-row-2 a:not(.fusion-button):not(.fusion-builder-module-control):not(.fusion-social-network-icon):not(.fb-icon-element):not(.fusion-countdown-link):not(.fusion-rollover-link):not(.fusion-rollover-gallery):not(.fusion-button-bar):not(.add_to_cart_button):not(.show_details_button):not(.product_type_external):not(.fusion-quick-view):not(.fusion-rollover-title-link):not(.fusion-breadcrumb-link):before\, .fusion-fullwidth.fusion-builder-row-2 a:not(.fusion-button):not(.fusion-builder-module-control):not(.fusion-social-network-icon):not(.fb-icon-element):not(.fusion-countdown-link):not(.fusion-rollover-link):not(.fusion-rollover-gallery):not(.fusion-button-bar):not(.add_to_cart_button):not(.show_details_button):not(.product_type_external):not(.fusion-quick-view):not(.fusion-rollover-title-link):not(.fusion-breadcrumb-link):after {color: #ebc979;}.fusion-fullwidth.fusion-builder-row-2 a:not(.fusion-button):not(.fusion-builder-module-control):not(.fusion-social-network-icon):not(.fb-icon-element):not(.fusion-countdown-link):not(.fusion-rollover-link):not(.fusion-rollover-gallery):not(.fusion-button-bar):not(.add_to_cart_button):not(.show_details_button):not(.product_type_external):not(.fusion-quick-view):not(.fusion-rollover-title-link):not(.fusion-breadcrumb-link):hover\, .fusion-fullwidth.fusion-builder-row-2 a:not(.fusion-button):not(.fusion-builder-module-control):not(.fusion-social-network-icon):not(.fb-icon-element):not(.fusion-countdown-link):not(.fusion-rollover-link):not(.fusion-rollover-gallery):not(.fusion-button-bar):not(.add_to_cart_button):not(.show_details_button):not(.product_type_external):not(.fusion-quick-view):not(.fusion-rollover-title-link):not(.fusion-breadcrumb-link):hover:before\, .fusion-fullwidth.fusion-builder-row-2 a:not(.fusion-button):not(.fusion-builder-module-control):not(.fusion-social-network-icon):not(.fb-icon-element):not(.fusion-countdown-link):not(.fusion-rollover-link):not(.fusion-rollover-gallery):not(.fusion-button-bar):not(.add_to_cart_button):not(.show_details_button):not(.product_type_external):not(.fusion-quick-view):not(.fusion-rollover-title-link):not(.fusion-breadcrumb-link):hover:after {color: #0c162a;}.fusion-fullwidth.fusion-builder-row-2 .pagination a.inactive:hover\, .fusion-fullwidth.fusion-builder-row-2 .fusion-filters .fusion-filter.fusion-active a {border-color: #0c162a;}.fusion-fullwidth.fusion-builder-row-2 .pagination .current {border-color: #0c162a; background-color: #0c162a;}.fusion-fullwidth.fusion-builder-row-2 .fusion-filters .fusion-filter.fusion-active a\, .fusion-fullwidth.fusion-builder-row-2 .fusion-date-and-formats .fusion-format-box\, .fusion-fullwidth.fusion-builder-row-2 .fusion-popover\, .fusion-fullwidth.fusion-builder-row-2 .tooltip-shortcode {color: #0c162a;}#main .fusion-fullwidth.fusion-builder-row-2 .post .blog-shortcode-post-title a:hover {color: #0c162a;}\n
URL:https://silksdarwin.com.au/events/the-track-specials-dinner/2021-04-22/
LOCATION:Silks Darwin\, Australia
CATEGORIES:Dining Promotions,Whats On Weekly
ATTACH;FMTTYPE=image/jpeg:https://silksdarwin.com.au/wp-content/uploads/2020/07/SILKS_TheTrack-15SPECIALS_WEB-TILE2.jpg
END:VEVENT
BEGIN:VEVENT
DTSTART;VALUE=DATE:20210420
DTEND;VALUE=DATE:20210421
DTSTAMP:20210225T115738
CREATED:20200701T233357Z
LAST-MODIFIED:20200701T233357Z
UID:5048-1618876800-1618963199@silksdarwin.com.au
SUMMARY:Coffee and Cake Tuesday
DESCRIPTION:Silks Café Coffee and Cake Tuesday\nfor only $8.50\nEnjoy a coffee and our cake of the day anytime \nMembers price only. No further discounts apply. Excludes extra shots and additives \n
URL:https://silksdarwin.com.au/events/coffee-and-cake-tuesday/2021-04-20/
LOCATION:Silks Darwin\, Australia
CATEGORIES:Dining Promotions,Promotions,Whats On Weekly
ATTACH;FMTTYPE=image/jpeg:https://silksdarwin.com.au/wp-content/uploads/2020/07/SilksDarwin_WhatsOn_COFFEE-CAKE-TUES_WEB.jpg
ORGANIZER;CN="Silks%20Darwin":MAILTO:info@silksdarwin.com
END:VEVENT
BEGIN:VEVENT
DTSTART;TZID=Australia/Darwin:20210227T180000
DTEND;TZID=Australia/Darwin:20210227T233000
DTSTAMP:20210225T115738
CREATED:20210121T230515Z
LAST-MODIFIED:20210121T230515Z
UID:4727-1614448800-1614468600@silksdarwin.com.au
SUMMARY:Matt Hellack
DESCRIPTION:
URL:https://silksdarwin.com.au/events/matt-hellack-2/
LOCATION:Silks Darwin\, Australia
CATEGORIES:Upcoming Entertainment
ATTACH;FMTTYPE=image/jpeg:https://silksdarwin.com.au/wp-content/uploads/2021/01/SILKS_ENT-SAT-FEB2021_TILE4.jpg
END:VEVENT
BEGIN:VEVENT
DTSTART;TZID=Australia/Darwin:20210226T180000
DTEND;TZID=Australia/Darwin:20210226T233000
DTSTAMP:20210225T115738
CREATED:20210121T230348Z
LAST-MODIFIED:20210121T230348Z
UID:4721-1614362400-1614382200@silksdarwin.com.au
SUMMARY:Matt Higgins
DESCRIPTION:
URL:https://silksdarwin.com.au/events/matt-higgins-5/
LOCATION:Silks Darwin\, Australia
CATEGORIES:Upcoming Entertainment
ATTACH;FMTTYPE=image/jpeg:https://silksdarwin.com.au/wp-content/uploads/2021/01/SILKS_ENT-FRI-JAN2021_TILE4-1.jpg
END:VEVENT
END:VCALENDAR