BEGIN:VCALENDAR
VERSION:2.0
PRODID:-//Silks Darwin - ECPv6.15.16.1//NONSGML v1.0//EN
CALSCALE:GREGORIAN
METHOD:PUBLISH
X-ORIGINAL-URL:https://silksdarwin.com.au
X-WR-CALDESC:Events for Silks Darwin
REFRESH-INTERVAL;VALUE=DURATION:PT1H
X-Robots-Tag:noindex
X-PUBLISHED-TTL:PT1H
BEGIN:VTIMEZONE
TZID:Australia/Darwin
BEGIN:STANDARD
TZOFFSETFROM:+0930
TZOFFSETTO:+0930
TZNAME:ACST
DTSTART:20250101T000000
END:STANDARD
END:VTIMEZONE
BEGIN:VEVENT
DTSTART;TZID=Australia/Darwin:20260424T170000
DTEND;TZID=Australia/Darwin:20260424T210000
DTSTAMP:20260421T003927
CREATED:20230507T233011Z
LAST-MODIFIED:20260331T033902Z
UID:11444-1777050000-1777064400@silksdarwin.com.au
SUMMARY:COMMUNITY MEAT RAFFLES
DESCRIPTION:Be at Silks to support local sporting community clubs every Friday from 5:00pm! \nThere are five $100 meat vouchers to be won\, with draws at: \n\n7:00pm: $100 Voucher\n7:30pm: $100 Voucher\n8:00pm: $100 Voucher\n8:30pm: $100 Voucher\n9:00pm: $100 Voucher\n\nFull T&C’s HERE.
URL:https://silksdarwin.com.au/event/community-meat-raffles/2026-04-24/
LOCATION:Silks Darwin\, 20 Buntine Road\, Fannie Bay\, Northern Territory\, 0820\, Australia
CATEGORIES:Promotions,What's On Weekly
ATTACH;FMTTYPE=image/jpeg:https://silksdarwin.com.au/wp-content/uploads/2023/05/SILKS_Community-Raffles-APR26_Web-Tile.jpg
END:VEVENT
BEGIN:VEVENT
DTSTART;TZID=Australia/Darwin:20260501T170000
DTEND;TZID=Australia/Darwin:20260501T210000
DTSTAMP:20260421T003927
CREATED:20230507T233011Z
LAST-MODIFIED:20260331T033904Z
UID:11500-1777654800-1777669200@silksdarwin.com.au
SUMMARY:COMMUNITY MEAT RAFFLES
DESCRIPTION:Be at Silks to support local sporting community clubs every Friday from 5:00pm! \nThere are five $100 meat vouchers to be won\, with draws at: \n\n7:00pm: $100 Voucher\n7:30pm: $100 Voucher\n8:00pm: $100 Voucher\n8:30pm: $100 Voucher\n9:00pm: $100 Voucher\n\nFull T&C’s HERE.
URL:https://silksdarwin.com.au/event/community-meat-raffles/2026-05-01/
LOCATION:Silks Darwin\, 20 Buntine Road\, Fannie Bay\, Northern Territory\, 0820\, Australia
CATEGORIES:Promotions,What's On Weekly
ATTACH;FMTTYPE=image/jpeg:https://silksdarwin.com.au/wp-content/uploads/2023/05/SILKS_Community-Raffles-APR26_Web-Tile.jpg
END:VEVENT
BEGIN:VEVENT
DTSTART;TZID=Australia/Darwin:20260508T170000
DTEND;TZID=Australia/Darwin:20260508T210000
DTSTAMP:20260421T003927
CREATED:20230507T233011Z
LAST-MODIFIED:20260331T033905Z
UID:11533-1778259600-1778274000@silksdarwin.com.au
SUMMARY:COMMUNITY MEAT RAFFLES
DESCRIPTION:Be at Silks to support local sporting community clubs every Friday from 5:00pm! \nThere are five $100 meat vouchers to be won\, with draws at: \n\n7:00pm: $100 Voucher\n7:30pm: $100 Voucher\n8:00pm: $100 Voucher\n8:30pm: $100 Voucher\n9:00pm: $100 Voucher\n\nFull T&C’s HERE.
URL:https://silksdarwin.com.au/event/community-meat-raffles/2026-05-08/
LOCATION:Silks Darwin\, 20 Buntine Road\, Fannie Bay\, Northern Territory\, 0820\, Australia
CATEGORIES:Promotions,What's On Weekly
ATTACH;FMTTYPE=image/jpeg:https://silksdarwin.com.au/wp-content/uploads/2023/05/SILKS_Community-Raffles-APR26_Web-Tile.jpg
END:VEVENT
BEGIN:VEVENT
DTSTART;TZID=Australia/Darwin:20260515T170000
DTEND;TZID=Australia/Darwin:20260515T210000
DTSTAMP:20260421T003927
CREATED:20230507T233011Z
LAST-MODIFIED:20260331T033907Z
UID:11571-1778864400-1778878800@silksdarwin.com.au
SUMMARY:COMMUNITY MEAT RAFFLES
DESCRIPTION:Be at Silks to support local sporting community clubs every Friday from 5:00pm! \nThere are five $100 meat vouchers to be won\, with draws at: \n\n7:00pm: $100 Voucher\n7:30pm: $100 Voucher\n8:00pm: $100 Voucher\n8:30pm: $100 Voucher\n9:00pm: $100 Voucher\n\nFull T&C’s HERE.
URL:https://silksdarwin.com.au/event/community-meat-raffles/2026-05-15/
LOCATION:Silks Darwin\, 20 Buntine Road\, Fannie Bay\, Northern Territory\, 0820\, Australia
CATEGORIES:Promotions,What's On Weekly
ATTACH;FMTTYPE=image/jpeg:https://silksdarwin.com.au/wp-content/uploads/2023/05/SILKS_Community-Raffles-APR26_Web-Tile.jpg
END:VEVENT
BEGIN:VEVENT
DTSTART;TZID=Australia/Darwin:20260522T170000
DTEND;TZID=Australia/Darwin:20260522T210000
DTSTAMP:20260421T003927
CREATED:20230507T233011Z
LAST-MODIFIED:20260331T033908Z
UID:11604-1779469200-1779483600@silksdarwin.com.au
SUMMARY:COMMUNITY MEAT RAFFLES
DESCRIPTION:Be at Silks to support local sporting community clubs every Friday from 5:00pm! \nThere are five $100 meat vouchers to be won\, with draws at: \n\n7:00pm: $100 Voucher\n7:30pm: $100 Voucher\n8:00pm: $100 Voucher\n8:30pm: $100 Voucher\n9:00pm: $100 Voucher\n\nFull T&C’s HERE.
URL:https://silksdarwin.com.au/event/community-meat-raffles/2026-05-22/
LOCATION:Silks Darwin\, 20 Buntine Road\, Fannie Bay\, Northern Territory\, 0820\, Australia
CATEGORIES:Promotions,What's On Weekly
ATTACH;FMTTYPE=image/jpeg:https://silksdarwin.com.au/wp-content/uploads/2023/05/SILKS_Community-Raffles-APR26_Web-Tile.jpg
END:VEVENT
BEGIN:VEVENT
DTSTART;TZID=Australia/Darwin:20260529T170000
DTEND;TZID=Australia/Darwin:20260529T210000
DTSTAMP:20260421T003927
CREATED:20230507T233011Z
LAST-MODIFIED:20260331T033910Z
UID:11653-1780074000-1780088400@silksdarwin.com.au
SUMMARY:COMMUNITY MEAT RAFFLES
DESCRIPTION:Be at Silks to support local sporting community clubs every Friday from 5:00pm! \nThere are five $100 meat vouchers to be won\, with draws at: \n\n7:00pm: $100 Voucher\n7:30pm: $100 Voucher\n8:00pm: $100 Voucher\n8:30pm: $100 Voucher\n9:00pm: $100 Voucher\n\nFull T&C’s HERE.
URL:https://silksdarwin.com.au/event/community-meat-raffles/2026-05-29/
LOCATION:Silks Darwin\, 20 Buntine Road\, Fannie Bay\, Northern Territory\, 0820\, Australia
CATEGORIES:Promotions,What's On Weekly
ATTACH;FMTTYPE=image/jpeg:https://silksdarwin.com.au/wp-content/uploads/2023/05/SILKS_Community-Raffles-APR26_Web-Tile.jpg
END:VEVENT
BEGIN:VEVENT
DTSTART;TZID=Australia/Darwin:20260605T170000
DTEND;TZID=Australia/Darwin:20260605T210000
DTSTAMP:20260421T003927
CREATED:20230507T233011Z
LAST-MODIFIED:20260331T033912Z
UID:11691-1780678800-1780693200@silksdarwin.com.au
SUMMARY:COMMUNITY MEAT RAFFLES
DESCRIPTION:Be at Silks to support local sporting community clubs every Friday from 5:00pm! \nThere are five $100 meat vouchers to be won\, with draws at: \n\n7:00pm: $100 Voucher\n7:30pm: $100 Voucher\n8:00pm: $100 Voucher\n8:30pm: $100 Voucher\n9:00pm: $100 Voucher\n\nFull T&C’s HERE.
URL:https://silksdarwin.com.au/event/community-meat-raffles/2026-06-05/
LOCATION:Silks Darwin\, 20 Buntine Road\, Fannie Bay\, Northern Territory\, 0820\, Australia
CATEGORIES:Promotions,What's On Weekly
ATTACH;FMTTYPE=image/jpeg:https://silksdarwin.com.au/wp-content/uploads/2023/05/SILKS_Community-Raffles-APR26_Web-Tile.jpg
END:VEVENT
BEGIN:VEVENT
DTSTART;TZID=Australia/Darwin:20260612T170000
DTEND;TZID=Australia/Darwin:20260612T210000
DTSTAMP:20260421T003927
CREATED:20230507T233011Z
LAST-MODIFIED:20260331T033913Z
UID:11726-1781283600-1781298000@silksdarwin.com.au
SUMMARY:COMMUNITY MEAT RAFFLES
DESCRIPTION:Be at Silks to support local sporting community clubs every Friday from 5:00pm! \nThere are five $100 meat vouchers to be won\, with draws at: \n\n7:00pm: $100 Voucher\n7:30pm: $100 Voucher\n8:00pm: $100 Voucher\n8:30pm: $100 Voucher\n9:00pm: $100 Voucher\n\nFull T&C’s HERE.
URL:https://silksdarwin.com.au/event/community-meat-raffles/2026-06-12/
LOCATION:Silks Darwin\, 20 Buntine Road\, Fannie Bay\, Northern Territory\, 0820\, Australia
CATEGORIES:Promotions,What's On Weekly
ATTACH;FMTTYPE=image/jpeg:https://silksdarwin.com.au/wp-content/uploads/2023/05/SILKS_Community-Raffles-APR26_Web-Tile.jpg
END:VEVENT
BEGIN:VEVENT
DTSTART;TZID=Australia/Darwin:20260619T170000
DTEND;TZID=Australia/Darwin:20260619T210000
DTSTAMP:20260421T003927
CREATED:20230507T233011Z
LAST-MODIFIED:20260331T033915Z
UID:11820-1781888400-1781902800@silksdarwin.com.au
SUMMARY:COMMUNITY MEAT RAFFLES
DESCRIPTION:Be at Silks to support local sporting community clubs every Friday from 5:00pm! \nThere are five $100 meat vouchers to be won\, with draws at: \n\n7:00pm: $100 Voucher\n7:30pm: $100 Voucher\n8:00pm: $100 Voucher\n8:30pm: $100 Voucher\n9:00pm: $100 Voucher\n\nFull T&C’s HERE.
URL:https://silksdarwin.com.au/event/community-meat-raffles/2026-06-19/
LOCATION:Silks Darwin\, 20 Buntine Road\, Fannie Bay\, Northern Territory\, 0820\, Australia
CATEGORIES:Promotions,What's On Weekly
ATTACH;FMTTYPE=image/jpeg:https://silksdarwin.com.au/wp-content/uploads/2023/05/SILKS_Community-Raffles-APR26_Web-Tile.jpg
END:VEVENT
BEGIN:VEVENT
DTSTART;TZID=Australia/Darwin:20260626T170000
DTEND;TZID=Australia/Darwin:20260626T210000
DTSTAMP:20260421T003927
CREATED:20230507T233011Z
LAST-MODIFIED:20260331T033916Z
UID:11855-1782493200-1782507600@silksdarwin.com.au
SUMMARY:COMMUNITY MEAT RAFFLES
DESCRIPTION:Be at Silks to support local sporting community clubs every Friday from 5:00pm! \nThere are five $100 meat vouchers to be won\, with draws at: \n\n7:00pm: $100 Voucher\n7:30pm: $100 Voucher\n8:00pm: $100 Voucher\n8:30pm: $100 Voucher\n9:00pm: $100 Voucher\n\nFull T&C’s HERE.
URL:https://silksdarwin.com.au/event/community-meat-raffles/2026-06-26/
LOCATION:Silks Darwin\, 20 Buntine Road\, Fannie Bay\, Northern Territory\, 0820\, Australia
CATEGORIES:Promotions,What's On Weekly
ATTACH;FMTTYPE=image/jpeg:https://silksdarwin.com.au/wp-content/uploads/2023/05/SILKS_Community-Raffles-APR26_Web-Tile.jpg
END:VEVENT
BEGIN:VEVENT
DTSTART;TZID=Australia/Darwin:20260703T170000
DTEND;TZID=Australia/Darwin:20260703T210000
DTSTAMP:20260421T003927
CREATED:20230507T233011Z
LAST-MODIFIED:20230507T233011Z
UID:11888-1783098000-1783112400@silksdarwin.com.au
SUMMARY:COMMUNITY MEAT RAFFLES
DESCRIPTION:Be at Silks to support local sporting community clubs every Friday from 5:00pm! \nThere are five $100 meat vouchers to be won\, with draws at: \n\n7:00pm: $100 Voucher\n7:30pm: $100 Voucher\n8:00pm: $100 Voucher\n8:30pm: $100 Voucher\n9:00pm: $100 Voucher\n\nFull T&C’s HERE.
URL:https://silksdarwin.com.au/event/community-meat-raffles/2026-07-03/
LOCATION:Silks Darwin\, 20 Buntine Road\, Fannie Bay\, Northern Territory\, 0820\, Australia
CATEGORIES:Promotions,What's On Weekly
ATTACH;FMTTYPE=image/jpeg:https://silksdarwin.com.au/wp-content/uploads/2023/05/SILKS_Community-Raffles-APR26_Web-Tile.jpg
END:VEVENT
BEGIN:VEVENT
DTSTART;TZID=Australia/Darwin:20260710T170000
DTEND;TZID=Australia/Darwin:20260710T210000
DTSTAMP:20260421T003927
CREATED:20230507T233011Z
LAST-MODIFIED:20230507T233011Z
UID:11974-1783702800-1783717200@silksdarwin.com.au
SUMMARY:COMMUNITY MEAT RAFFLES
DESCRIPTION:Be at Silks to support local sporting community clubs every Friday from 5:00pm! \nThere are five $100 meat vouchers to be won\, with draws at: \n\n7:00pm: $100 Voucher\n7:30pm: $100 Voucher\n8:00pm: $100 Voucher\n8:30pm: $100 Voucher\n9:00pm: $100 Voucher\n\nFull T&C’s HERE.
URL:https://silksdarwin.com.au/event/community-meat-raffles/2026-07-10/
LOCATION:Silks Darwin\, 20 Buntine Road\, Fannie Bay\, Northern Territory\, 0820\, Australia
CATEGORIES:Promotions,What's On Weekly
ATTACH;FMTTYPE=image/jpeg:https://silksdarwin.com.au/wp-content/uploads/2023/05/SILKS_Community-Raffles-APR26_Web-Tile.jpg
END:VEVENT
BEGIN:VEVENT
DTSTART;TZID=Australia/Darwin:20260717T170000
DTEND;TZID=Australia/Darwin:20260717T210000
DTSTAMP:20260421T003927
CREATED:20230507T233011Z
LAST-MODIFIED:20230507T233011Z
UID:12014-1784307600-1784322000@silksdarwin.com.au
SUMMARY:COMMUNITY MEAT RAFFLES
DESCRIPTION:Be at Silks to support local sporting community clubs every Friday from 5:00pm! \nThere are five $100 meat vouchers to be won\, with draws at: \n\n7:00pm: $100 Voucher\n7:30pm: $100 Voucher\n8:00pm: $100 Voucher\n8:30pm: $100 Voucher\n9:00pm: $100 Voucher\n\nFull T&C’s HERE.
URL:https://silksdarwin.com.au/event/community-meat-raffles/2026-07-17/
LOCATION:Silks Darwin\, 20 Buntine Road\, Fannie Bay\, Northern Territory\, 0820\, Australia
CATEGORIES:Promotions,What's On Weekly
ATTACH;FMTTYPE=image/jpeg:https://silksdarwin.com.au/wp-content/uploads/2023/05/SILKS_Community-Raffles-APR26_Web-Tile.jpg
END:VEVENT
BEGIN:VEVENT
DTSTART;TZID=Australia/Darwin:20260724T170000
DTEND;TZID=Australia/Darwin:20260724T210000
DTSTAMP:20260421T003927
CREATED:20230507T233011Z
LAST-MODIFIED:20230507T233011Z
UID:12048-1784912400-1784926800@silksdarwin.com.au
SUMMARY:COMMUNITY MEAT RAFFLES
DESCRIPTION:Be at Silks to support local sporting community clubs every Friday from 5:00pm! \nThere are five $100 meat vouchers to be won\, with draws at: \n\n7:00pm: $100 Voucher\n7:30pm: $100 Voucher\n8:00pm: $100 Voucher\n8:30pm: $100 Voucher\n9:00pm: $100 Voucher\n\nFull T&C’s HERE.
URL:https://silksdarwin.com.au/event/community-meat-raffles/2026-07-24/
LOCATION:Silks Darwin\, 20 Buntine Road\, Fannie Bay\, Northern Territory\, 0820\, Australia
CATEGORIES:Promotions,What's On Weekly
ATTACH;FMTTYPE=image/jpeg:https://silksdarwin.com.au/wp-content/uploads/2023/05/SILKS_Community-Raffles-APR26_Web-Tile.jpg
END:VEVENT
BEGIN:VEVENT
DTSTART;TZID=Australia/Darwin:20260731T170000
DTEND;TZID=Australia/Darwin:20260731T210000
DTSTAMP:20260421T003927
CREATED:20230507T233011Z
LAST-MODIFIED:20230507T233011Z
UID:12081-1785517200-1785531600@silksdarwin.com.au
SUMMARY:COMMUNITY MEAT RAFFLES
DESCRIPTION:Be at Silks to support local sporting community clubs every Friday from 5:00pm! \nThere are five $100 meat vouchers to be won\, with draws at: \n\n7:00pm: $100 Voucher\n7:30pm: $100 Voucher\n8:00pm: $100 Voucher\n8:30pm: $100 Voucher\n9:00pm: $100 Voucher\n\nFull T&C’s HERE.
URL:https://silksdarwin.com.au/event/community-meat-raffles/2026-07-31/
LOCATION:Silks Darwin\, 20 Buntine Road\, Fannie Bay\, Northern Territory\, 0820\, Australia
CATEGORIES:Promotions,What's On Weekly
ATTACH;FMTTYPE=image/jpeg:https://silksdarwin.com.au/wp-content/uploads/2023/05/SILKS_Community-Raffles-APR26_Web-Tile.jpg
END:VEVENT
BEGIN:VEVENT
DTSTART;TZID=Australia/Darwin:20260807T170000
DTEND;TZID=Australia/Darwin:20260807T210000
DTSTAMP:20260421T003927
CREATED:20230507T233011Z
LAST-MODIFIED:20230507T233011Z
UID:12115-1786122000-1786136400@silksdarwin.com.au
SUMMARY:COMMUNITY MEAT RAFFLES
DESCRIPTION:Be at Silks to support local sporting community clubs every Friday from 5:00pm! \nThere are five $100 meat vouchers to be won\, with draws at: \n\n7:00pm: $100 Voucher\n7:30pm: $100 Voucher\n8:00pm: $100 Voucher\n8:30pm: $100 Voucher\n9:00pm: $100 Voucher\n\nFull T&C’s HERE.
URL:https://silksdarwin.com.au/event/community-meat-raffles/2026-08-07/
LOCATION:Silks Darwin\, 20 Buntine Road\, Fannie Bay\, Northern Territory\, 0820\, Australia
CATEGORIES:Promotions,What's On Weekly
ATTACH;FMTTYPE=image/jpeg:https://silksdarwin.com.au/wp-content/uploads/2023/05/SILKS_Community-Raffles-APR26_Web-Tile.jpg
END:VEVENT
BEGIN:VEVENT
DTSTART;TZID=Australia/Darwin:20260814T170000
DTEND;TZID=Australia/Darwin:20260814T210000
DTSTAMP:20260421T003927
CREATED:20230507T233011Z
LAST-MODIFIED:20230507T233011Z
UID:12148-1786726800-1786741200@silksdarwin.com.au
SUMMARY:COMMUNITY MEAT RAFFLES
DESCRIPTION:Be at Silks to support local sporting community clubs every Friday from 5:00pm! \nThere are five $100 meat vouchers to be won\, with draws at: \n\n7:00pm: $100 Voucher\n7:30pm: $100 Voucher\n8:00pm: $100 Voucher\n8:30pm: $100 Voucher\n9:00pm: $100 Voucher\n\nFull T&C’s HERE.
URL:https://silksdarwin.com.au/event/community-meat-raffles/2026-08-14/
LOCATION:Silks Darwin\, 20 Buntine Road\, Fannie Bay\, Northern Territory\, 0820\, Australia
CATEGORIES:Promotions,What's On Weekly
ATTACH;FMTTYPE=image/jpeg:https://silksdarwin.com.au/wp-content/uploads/2023/05/SILKS_Community-Raffles-APR26_Web-Tile.jpg
END:VEVENT
BEGIN:VEVENT
DTSTART;TZID=Australia/Darwin:20260821T170000
DTEND;TZID=Australia/Darwin:20260821T210000
DTSTAMP:20260421T003927
CREATED:20230507T233011Z
LAST-MODIFIED:20230507T233011Z
UID:12181-1787331600-1787346000@silksdarwin.com.au
SUMMARY:COMMUNITY MEAT RAFFLES
DESCRIPTION:Be at Silks to support local sporting community clubs every Friday from 5:00pm! \nThere are five $100 meat vouchers to be won\, with draws at: \n\n7:00pm: $100 Voucher\n7:30pm: $100 Voucher\n8:00pm: $100 Voucher\n8:30pm: $100 Voucher\n9:00pm: $100 Voucher\n\nFull T&C’s HERE.
URL:https://silksdarwin.com.au/event/community-meat-raffles/2026-08-21/
LOCATION:Silks Darwin\, 20 Buntine Road\, Fannie Bay\, Northern Territory\, 0820\, Australia
CATEGORIES:Promotions,What's On Weekly
ATTACH;FMTTYPE=image/jpeg:https://silksdarwin.com.au/wp-content/uploads/2023/05/SILKS_Community-Raffles-APR26_Web-Tile.jpg
END:VEVENT
BEGIN:VEVENT
DTSTART;TZID=Australia/Darwin:20260828T170000
DTEND;TZID=Australia/Darwin:20260828T210000
DTSTAMP:20260421T003927
CREATED:20230507T233011Z
LAST-MODIFIED:20230507T233011Z
UID:12225-1787936400-1787950800@silksdarwin.com.au
SUMMARY:COMMUNITY MEAT RAFFLES
DESCRIPTION:Be at Silks to support local sporting community clubs every Friday from 5:00pm! \nThere are five $100 meat vouchers to be won\, with draws at: \n\n7:00pm: $100 Voucher\n7:30pm: $100 Voucher\n8:00pm: $100 Voucher\n8:30pm: $100 Voucher\n9:00pm: $100 Voucher\n\nFull T&C’s HERE.
URL:https://silksdarwin.com.au/event/community-meat-raffles/2026-08-28/
LOCATION:Silks Darwin\, 20 Buntine Road\, Fannie Bay\, Northern Territory\, 0820\, Australia
CATEGORIES:Promotions,What's On Weekly
ATTACH;FMTTYPE=image/jpeg:https://silksdarwin.com.au/wp-content/uploads/2023/05/SILKS_Community-Raffles-APR26_Web-Tile.jpg
END:VEVENT
BEGIN:VEVENT
DTSTART;TZID=Australia/Darwin:20260904T170000
DTEND;TZID=Australia/Darwin:20260904T210000
DTSTAMP:20260421T003927
CREATED:20230507T233011Z
LAST-MODIFIED:20230507T233011Z
UID:12261-1788541200-1788555600@silksdarwin.com.au
SUMMARY:COMMUNITY MEAT RAFFLES
DESCRIPTION:Be at Silks to support local sporting community clubs every Friday from 5:00pm! \nThere are five $100 meat vouchers to be won\, with draws at: \n\n7:00pm: $100 Voucher\n7:30pm: $100 Voucher\n8:00pm: $100 Voucher\n8:30pm: $100 Voucher\n9:00pm: $100 Voucher\n\nFull T&C’s HERE.
URL:https://silksdarwin.com.au/event/community-meat-raffles/2026-09-04/
LOCATION:Silks Darwin\, 20 Buntine Road\, Fannie Bay\, Northern Territory\, 0820\, Australia
CATEGORIES:Promotions,What's On Weekly
ATTACH;FMTTYPE=image/jpeg:https://silksdarwin.com.au/wp-content/uploads/2023/05/SILKS_Community-Raffles-APR26_Web-Tile.jpg
END:VEVENT
BEGIN:VEVENT
DTSTART;TZID=Australia/Darwin:20260911T170000
DTEND;TZID=Australia/Darwin:20260911T210000
DTSTAMP:20260421T003927
CREATED:20230507T233011Z
LAST-MODIFIED:20230507T233011Z
UID:12335-1789146000-1789160400@silksdarwin.com.au
SUMMARY:COMMUNITY MEAT RAFFLES
DESCRIPTION:Be at Silks to support local sporting community clubs every Friday from 5:00pm! \nThere are five $100 meat vouchers to be won\, with draws at: \n\n7:00pm: $100 Voucher\n7:30pm: $100 Voucher\n8:00pm: $100 Voucher\n8:30pm: $100 Voucher\n9:00pm: $100 Voucher\n\nFull T&C’s HERE.
URL:https://silksdarwin.com.au/event/community-meat-raffles/2026-09-11/
LOCATION:Silks Darwin\, 20 Buntine Road\, Fannie Bay\, Northern Territory\, 0820\, Australia
CATEGORIES:Promotions,What's On Weekly
ATTACH;FMTTYPE=image/jpeg:https://silksdarwin.com.au/wp-content/uploads/2023/05/SILKS_Community-Raffles-APR26_Web-Tile.jpg
END:VEVENT
BEGIN:VEVENT
DTSTART;TZID=Australia/Darwin:20260918T170000
DTEND;TZID=Australia/Darwin:20260918T210000
DTSTAMP:20260421T003927
CREATED:20230507T233011Z
LAST-MODIFIED:20230507T233011Z
UID:12369-1789750800-1789765200@silksdarwin.com.au
SUMMARY:COMMUNITY MEAT RAFFLES
DESCRIPTION:Be at Silks to support local sporting community clubs every Friday from 5:00pm! \nThere are five $100 meat vouchers to be won\, with draws at: \n\n7:00pm: $100 Voucher\n7:30pm: $100 Voucher\n8:00pm: $100 Voucher\n8:30pm: $100 Voucher\n9:00pm: $100 Voucher\n\nFull T&C’s HERE.
URL:https://silksdarwin.com.au/event/community-meat-raffles/2026-09-18/
LOCATION:Silks Darwin\, 20 Buntine Road\, Fannie Bay\, Northern Territory\, 0820\, Australia
CATEGORIES:Promotions,What's On Weekly
ATTACH;FMTTYPE=image/jpeg:https://silksdarwin.com.au/wp-content/uploads/2023/05/SILKS_Community-Raffles-APR26_Web-Tile.jpg
END:VEVENT
BEGIN:VEVENT
DTSTART;TZID=Australia/Darwin:20260925T170000
DTEND;TZID=Australia/Darwin:20260925T210000
DTSTAMP:20260421T003927
CREATED:20230507T233011Z
LAST-MODIFIED:20230507T233011Z
UID:12403-1790355600-1790370000@silksdarwin.com.au
SUMMARY:COMMUNITY MEAT RAFFLES
DESCRIPTION:Be at Silks to support local sporting community clubs every Friday from 5:00pm! \nThere are five $100 meat vouchers to be won\, with draws at: \n\n7:00pm: $100 Voucher\n7:30pm: $100 Voucher\n8:00pm: $100 Voucher\n8:30pm: $100 Voucher\n9:00pm: $100 Voucher\n\nFull T&C’s HERE.
URL:https://silksdarwin.com.au/event/community-meat-raffles/2026-09-25/
LOCATION:Silks Darwin\, 20 Buntine Road\, Fannie Bay\, Northern Territory\, 0820\, Australia
CATEGORIES:Promotions,What's On Weekly
ATTACH;FMTTYPE=image/jpeg:https://silksdarwin.com.au/wp-content/uploads/2023/05/SILKS_Community-Raffles-APR26_Web-Tile.jpg
END:VEVENT
BEGIN:VEVENT
DTSTART;TZID=Australia/Darwin:20261002T170000
DTEND;TZID=Australia/Darwin:20261002T210000
DTSTAMP:20260421T003927
CREATED:20230507T233011Z
LAST-MODIFIED:20230507T233011Z
UID:12644-1790960400-1790974800@silksdarwin.com.au
SUMMARY:COMMUNITY MEAT RAFFLES
DESCRIPTION:Be at Silks to support local sporting community clubs every Friday from 5:00pm! \nThere are five $100 meat vouchers to be won\, with draws at: \n\n7:00pm: $100 Voucher\n7:30pm: $100 Voucher\n8:00pm: $100 Voucher\n8:30pm: $100 Voucher\n9:00pm: $100 Voucher\n\nFull T&C’s HERE.
URL:https://silksdarwin.com.au/event/community-meat-raffles/2026-10-02/
LOCATION:Silks Darwin\, 20 Buntine Road\, Fannie Bay\, Northern Territory\, 0820\, Australia
CATEGORIES:Promotions,What's On Weekly
ATTACH;FMTTYPE=image/jpeg:https://silksdarwin.com.au/wp-content/uploads/2023/05/SILKS_Community-Raffles-APR26_Web-Tile.jpg
END:VEVENT
BEGIN:VEVENT
DTSTART;TZID=Australia/Darwin:20261009T170000
DTEND;TZID=Australia/Darwin:20261009T210000
DTSTAMP:20260421T003927
CREATED:20230507T233011Z
LAST-MODIFIED:20230507T233011Z
UID:12680-1791565200-1791579600@silksdarwin.com.au
SUMMARY:COMMUNITY MEAT RAFFLES
DESCRIPTION:Be at Silks to support local sporting community clubs every Friday from 5:00pm! \nThere are five $100 meat vouchers to be won\, with draws at: \n\n7:00pm: $100 Voucher\n7:30pm: $100 Voucher\n8:00pm: $100 Voucher\n8:30pm: $100 Voucher\n9:00pm: $100 Voucher\n\nFull T&C’s HERE.
URL:https://silksdarwin.com.au/event/community-meat-raffles/2026-10-09/
LOCATION:Silks Darwin\, 20 Buntine Road\, Fannie Bay\, Northern Territory\, 0820\, Australia
CATEGORIES:Promotions,What's On Weekly
ATTACH;FMTTYPE=image/jpeg:https://silksdarwin.com.au/wp-content/uploads/2023/05/SILKS_Community-Raffles-APR26_Web-Tile.jpg
END:VEVENT
BEGIN:VEVENT
DTSTART;TZID=Australia/Darwin:20261016T170000
DTEND;TZID=Australia/Darwin:20261016T210000
DTSTAMP:20260421T003927
CREATED:20230507T233011Z
LAST-MODIFIED:20230507T233011Z
UID:12746-1792170000-1792184400@silksdarwin.com.au
SUMMARY:COMMUNITY MEAT RAFFLES
DESCRIPTION:Be at Silks to support local sporting community clubs every Friday from 5:00pm! \nThere are five $100 meat vouchers to be won\, with draws at: \n\n7:00pm: $100 Voucher\n7:30pm: $100 Voucher\n8:00pm: $100 Voucher\n8:30pm: $100 Voucher\n9:00pm: $100 Voucher\n\nFull T&C’s HERE.
URL:https://silksdarwin.com.au/event/community-meat-raffles/2026-10-16/
LOCATION:Silks Darwin\, 20 Buntine Road\, Fannie Bay\, Northern Territory\, 0820\, Australia
CATEGORIES:Promotions,What's On Weekly
ATTACH;FMTTYPE=image/jpeg:https://silksdarwin.com.au/wp-content/uploads/2023/05/SILKS_Community-Raffles-APR26_Web-Tile.jpg
END:VEVENT
END:VCALENDAR