BEGIN:VCALENDAR
VERSION:2.0
PRODID:-//Silks Darwin - ECPv6.15.16.1//NONSGML v1.0//EN
CALSCALE:GREGORIAN
METHOD:PUBLISH
X-WR-CALNAME:Silks Darwin
X-ORIGINAL-URL:https://silksdarwin.com.au
X-WR-CALDESC:Events for Silks Darwin
REFRESH-INTERVAL;VALUE=DURATION:PT1H
X-Robots-Tag:noindex
X-PUBLISHED-TTL:PT1H
BEGIN:VTIMEZONE
TZID:Australia/Darwin
BEGIN:STANDARD
TZOFFSETFROM:+0930
TZOFFSETTO:+0930
TZNAME:ACST
DTSTART:20240101T000000
END:STANDARD
END:VTIMEZONE
BEGIN:VEVENT
DTSTART;TZID=Australia/Darwin:20250510T143000
DTEND;TZID=Australia/Darwin:20250510T180000
DTSTAMP:20260425T232125
CREATED:20250502T031501Z
LAST-MODIFIED:20250502T031501Z
UID:10275-1746887400-1746900000@silksdarwin.com.au
SUMMARY:LOCAL HORSE RACING
DESCRIPTION:Experience all the live racing action from the Darwin Turf Club on Saturday\, 10 May & Friday\, 24 May right here at Silks Darwin – just 400 metres from the winning post! \nWhether you’re trackside or enjoying a more relaxed setting\, we’ve got the perfect spot for every racing fan: \nPrime Viewing on the DeckSoak up the atmosphere on our outdoor deck and catch the horses as they thunder around the home turn and down the straight. \nFull TAB & Sports Bar AccessStay inside and enjoy the races on the BIG screen with full TAB facilities – ideal for the serious punter or casual viewer alike. \nDelicious Dining at The Track BistroRefuel with mouth-watering meals\, perfect for lunch\, dinner or a race day snack. \nFully Stocked BarChoose from our wide range of beers\, wines\, spirits and cocktails as you cheer on your favourites. \nWhether you’re a racing regular or just in it for the fun\, Silks Darwin is the ultimate race day destination.
URL:https://silksdarwin.com.au/event/local-horse-racing/2025-05-10/
LOCATION:The Sports Bar\, 20 Buntine Road\, Fannie Bay\, 0820\, Australia
CATEGORIES:Live Sports
ATTACH;FMTTYPE=image/jpeg:https://silksdarwin.com.au/wp-content/uploads/2025/05/Web-Tile-3.jpg
END:VEVENT
END:VCALENDAR