BEGIN:VCALENDAR
VERSION:2.0
PRODID:-//Silks Darwin - ECPv6.15.16.1//NONSGML v1.0//EN
CALSCALE:GREGORIAN
METHOD:PUBLISH
X-ORIGINAL-URL:https://silksdarwin.com.au
X-WR-CALDESC:Events for Silks Darwin
REFRESH-INTERVAL;VALUE=DURATION:PT1H
X-Robots-Tag:noindex
X-PUBLISHED-TTL:PT1H
BEGIN:VTIMEZONE
TZID:Australia/Darwin
BEGIN:STANDARD
TZOFFSETFROM:+0930
TZOFFSETTO:+0930
TZNAME:ACST
DTSTART:20240101T000000
END:STANDARD
END:VTIMEZONE
BEGIN:VEVENT
DTSTART;TZID=Australia/Darwin:20250317T180000
DTEND;TZID=Australia/Darwin:20250317T200000
DTSTAMP:20260423T213047
CREATED:20250306T031420Z
LAST-MODIFIED:20250306T031420Z
UID:9926-1742234400-1742241600@silksdarwin.com.au
SUMMARY:PAINT & CREATE
DESCRIPTION:Fancy a fun couple of hours relaxing and being creative? Let your talented host artist guide you step by step to your own masterpiece. \nEverything needed is provided including aprons to keep you clean. \nHere at Silks\, we love catering to your every whim with impeccable service\, amazing food and drinks are available to purchase. \n\n$20 meal Specials\n$5 Schooners\nWine of the Month\nCocktail of the Month\nSilks & Stacks Members Draw at 8:00pm\n\nPlease arrive 15 minutes prior to start time to choose your seat\, and order your food/drinks. Our classes run for 2 hours\, but occasionally can go slightly over. \nChildren and adults are welcome. \nGET TICKETS
URL:https://silksdarwin.com.au/event/paint-create-6/
LOCATION:Silks Darwin\, 20 Buntine Road\, Fannie Bay\, Northern Territory\, 0820\, Australia
CATEGORIES:Special Events
ATTACH;FMTTYPE=image/jpeg:https://silksdarwin.com.au/wp-content/uploads/2025/03/Web-Tile.jpg
END:VEVENT
END:VCALENDAR