BEGIN:VCALENDAR
VERSION:2.0
PRODID:-//Silks Darwin - ECPv6.15.16.1//NONSGML v1.0//EN
CALSCALE:GREGORIAN
METHOD:PUBLISH
X-ORIGINAL-URL:https://silksdarwin.com.au
X-WR-CALDESC:Events for Silks Darwin
REFRESH-INTERVAL;VALUE=DURATION:PT1H
X-Robots-Tag:noindex
X-PUBLISHED-TTL:PT1H
BEGIN:VTIMEZONE
TZID:Australia/Darwin
BEGIN:STANDARD
TZOFFSETFROM:+0930
TZOFFSETTO:+0930
TZNAME:ACST
DTSTART:20250101T000000
END:STANDARD
END:VTIMEZONE
BEGIN:VEVENT
DTSTART;TZID=Australia/Darwin:20260131T170000
DTEND;TZID=Australia/Darwin:20260202T220000
DTSTAMP:20260422T194657
CREATED:20251218T230420Z
LAST-MODIFIED:20251218T230829Z
UID:11758-1769878800-1770069600@silksdarwin.com.au
SUMMARY:Australian Open 2026
DESCRIPTION:AUSTRALIAN OPEN LIVE AT SILKS DARWIN \nThe biggest tennis tournament in the country is reaching its climax and Silks Darwin is the place to watch it all unfold on the big screens\, live and loud. \nCatch the finals in the Silks Sports Bar and enjoy the full Silks experience with food and drink specials available every day. \n📅 Women’s FinalSaturday 31 January \n📅 Men’s FinalSunday 1 February \nPlus\, keep the good times rolling with live music on Saturday nights and race days. Walk-ins welcome or book your table via the button below: \nBOOK NOW \n#SilksDarwin #AustralianOpen #LiveSport #TennisLive #DarwinEvents #SportsBarDarwin #LiveMusic #TrackBistro
URL:https://silksdarwin.com.au/event/australian-open-2026/
LOCATION:The Sports Bar\, 20 Buntine Road\, Fannie Bay\, 0820\, Australia
CATEGORIES:Live Sports
ATTACH;FMTTYPE=image/jpeg:https://silksdarwin.com.au/wp-content/uploads/2025/12/SILKS_AUSTRALIA-OPEN-JAN-2026_Web-Tile.jpg
END:VEVENT
END:VCALENDAR