BEGIN:VCALENDAR
VERSION:2.0
PRODID:-//Silks Darwin - ECPv6.15.16.1//NONSGML v1.0//EN
CALSCALE:GREGORIAN
METHOD:PUBLISH
X-WR-CALNAME:Silks Darwin
X-ORIGINAL-URL:https://silksdarwin.com.au
X-WR-CALDESC:Events for Silks Darwin
REFRESH-INTERVAL;VALUE=DURATION:PT1H
X-Robots-Tag:noindex
X-PUBLISHED-TTL:PT1H
BEGIN:VTIMEZONE
TZID:Australia/Darwin
BEGIN:STANDARD
TZOFFSETFROM:+0930
TZOFFSETTO:+0930
TZNAME:ACST
DTSTART:20250101T000000
END:STANDARD
END:VTIMEZONE
BEGIN:VEVENT
DTSTART;TZID=Australia/Darwin:20260402T170000
DTEND;TZID=Australia/Darwin:20260402T210000
DTSTAMP:20260419T232551
CREATED:20260327T031614Z
LAST-MODIFIED:20260327T031614Z
UID:12451-1775149200-1775163600@silksdarwin.com.au
SUMMARY:CRACK THE CASE
DESCRIPTION:CRACK THE CASE – THURSDAYS AT SILKS \nThink you’ve got what it takes to crack it? \nJoin us every Thursday for Crack The Case\, where every draw gives you the chance to unlock hidden cash prizes. \n\n7 draws every Thursday night\nChance to win up to $400 CASH!\nDraws every 30 minutes from 6pm – 9pm\n\nGet drawn\, pick your case… and see what’s inside. \nHOW TO PLAY: \n✔️ Be a Silks Rewards Member✔️ Insert your card into a gaming machine✔️ Play between 5pm – 9pm to earn entries✔️ 1 entry for every $10 turnover✔️ Be present to claim (2 minutes!) \nFourteen cases. One decision. \nNot a member? Join today and get in the draw! \nTerms and Conditions
URL:https://silksdarwin.com.au/event/crack-the-case/2026-04-02/
LOCATION:Silks Gaming Room\, 20 Buntine Road\, Fannie Bay\, 0820\, Australia
CATEGORIES:Promotions,What's On Weekly
ATTACH;FMTTYPE=image/png:https://silksdarwin.com.au/wp-content/uploads/2026/03/SILKS-Crack-the-Case-WEB-TILE.png
END:VEVENT
END:VCALENDAR