BEGIN:VCALENDAR
VERSION:2.0
PRODID:-//Silks Darwin - ECPv6.15.16.1//NONSGML v1.0//EN
CALSCALE:GREGORIAN
METHOD:PUBLISH
X-ORIGINAL-URL:https://silksdarwin.com.au
X-WR-CALDESC:Events for Silks Darwin
REFRESH-INTERVAL;VALUE=DURATION:PT1H
X-Robots-Tag:noindex
X-PUBLISHED-TTL:PT1H
BEGIN:VTIMEZONE
TZID:Australia/Darwin
BEGIN:STANDARD
TZOFFSETFROM:+0930
TZOFFSETTO:+0930
TZNAME:ACST
DTSTART:20250101T000000
END:STANDARD
END:VTIMEZONE
BEGIN:VEVENT
DTSTART;VALUE=DATE:20260425
DTEND;VALUE=DATE:20260426
DTSTAMP:20260425T195744
CREATED:20250327T023611Z
LAST-MODIFIED:20260331T032820Z
UID:10062-1777075200-1777161599@silksdarwin.com.au
SUMMARY:ANZAC DAY
DESCRIPTION:Join us at Silks Darwin this ANZAC Day as we honour our servicemen and women with a day of racing\, footy\, and reflection. \nEnjoy a relaxed atmosphere with live local racing\, AFL action on the Deck\, and great food and drink specials throughout the day. \nWhat’s on: \n\nEssendon vs Collingwood LIVE & LOUD\nInterstate Horse Racing coverage\nTwo-up on the Deck from 1:30pm\nLive music from 5:30pm\nFood and Drink Specials\n\nWhether you’re here to enjoy the racing\, catch the big game\, or share a moment of remembrance\, Silks is the perfect place to spend ANZAC Day. \nWalk-ins welcome. Bistro bookings recommended. \nBOOK NOW
URL:https://silksdarwin.com.au/event/anzac-day-at-silks-2/
LOCATION:Silks Darwin\, 20 Buntine Road\, Fannie Bay\, Northern Territory\, 0820\, Australia
CATEGORIES:Special Events
ATTACH;FMTTYPE=image/jpeg:https://silksdarwin.com.au/wp-content/uploads/2025/03/SILKS_Anzac-Day_WEb-Tile.jpg
END:VEVENT
END:VCALENDAR